BEGIN:VCALENDAR
VERSION:2.0
PRODID:spatie/icalendar-generator
DESCRIPTION:Veranstaltungen von TLV EICHENZELL
X-WR-CALDESC:Veranstaltungen von TLV EICHENZELL
REFRESH-INTERVAL;VALUE=DURATION:PT1440M
X-PUBLISHED-TTL:PT1440M
BEGIN:VTIMEZONE
TZID:Europe/Berlin
BEGIN:STANDARD
DTSTART:20241027T030000Z
TZOFFSETFROM:+0200
TZOFFSETTO:+0100
END:STANDARD
BEGIN:DAYLIGHT
DTSTART:20250330T020000Z
TZOFFSETFROM:+0100
TZOFFSETTO:+0200
END:DAYLIGHT
END:VTIMEZONE
BEGIN:VTIMEZONE
TZID:UTC
BEGIN:STANDARD
DTSTART:20250729T174724Z
TZOFFSETFROM:+0000
TZOFFSETTO:+0000
END:STANDARD
END:VTIMEZONE
BEGIN:VEVENT
UID:536-17
DTSTAMP:20260425T174724Z
SUMMARY:Handball - Training Herren in Neuhof
LOCATION:Kreissporthalle Neuhof Johannes-Kepler-Str. 10  Neuhof Hessen 3611
 9
ORGANIZER;CN=Handball:MAILTO:handball@tlv-eichenzell.de
RRULE:FREQ=WEEKLY;UNTIL=20250625T000000Z
DTSTART;TZID=Europe/Berlin:20250409T200000
DTEND;TZID=Europe/Berlin:20250409T220000
X-ALT-DESC;FMTTYPE=TEXT/HTML:Infos unter handball@tlv-eichenzell.de
CATEGORIES:Handball
URL;VALUE=URI:http://tlv-eichenzell.de/mc-events/handball-training-herren-i
 n-neuhof/?mc_id=536
METHOD:PUBLISH
END:VEVENT
END:VCALENDAR