BEGIN:VCALENDAR
VERSION:2.0
PRODID:spatie/icalendar-generator
DESCRIPTION:Veranstaltungen von TLV EICHENZELL
X-WR-CALDESC:Veranstaltungen von TLV EICHENZELL
REFRESH-INTERVAL;VALUE=DURATION:PT1440M
X-PUBLISHED-TTL:PT1440M
BEGIN:VTIMEZONE
TZID:Europe/Berlin
BEGIN:STANDARD
DTSTART:20251026T030000Z
TZOFFSETFROM:+0200
TZOFFSETTO:+0100
END:STANDARD
BEGIN:DAYLIGHT
DTSTART:20260329T020000Z
TZOFFSETFROM:+0100
TZOFFSETTO:+0200
END:DAYLIGHT
END:VTIMEZONE
BEGIN:VTIMEZONE
TZID:UTC
BEGIN:STANDARD
DTSTART:20250725T103957Z
TZOFFSETFROM:+0000
TZOFFSETTO:+0000
END:STANDARD
END:VTIMEZONE
BEGIN:VEVENT
UID:2847-47
DTSTAMP:20260421T103957Z
SUMMARY:Handball - Training
LOCATION:Kreissporthalle Eichenzell Munkenstraße  Eichenzell Hessen 36124
ORGANIZER;CN=Handball:MAILTO:handball@tlv-eichenzell.de
RRULE:FREQ=WEEKLY;UNTIL=20260328T000000Z
DTSTART;TZID=Europe/Berlin:20260220T163000
DTEND;TZID=Europe/Berlin:20260220T220000
X-ALT-DESC;FMTTYPE=TEXT/HTML:<p>Weitere Infos unter: <a href="http://tlv-e
 ichenzell.de/trainingszeiten/">Handball/Trainingszeiten</a></p>\n
CATEGORIES:Handball
URL;VALUE=URI:http://tlv-eichenzell.de/mc-events/handball-training-2/?mc_id
 =2847
METHOD:PUBLISH
END:VEVENT
END:VCALENDAR